BEGIN:VCALENDAR
VERSION:2.0
PRODID:-//St. Andrew Presbyterian Church - ECPv6.15.17//NONSGML v1.0//EN
CALSCALE:GREGORIAN
METHOD:PUBLISH
X-ORIGINAL-URL:https://standrewpresbyterian.org
X-WR-CALDESC:Events for St. Andrew Presbyterian Church
REFRESH-INTERVAL;VALUE=DURATION:PT1H
X-Robots-Tag:noindex
X-PUBLISHED-TTL:PT1H
BEGIN:VTIMEZONE
TZID:UTC
BEGIN:STANDARD
TZOFFSETFROM:+0000
TZOFFSETTO:+0000
TZNAME:UTC
DTSTART:20200101T000000
END:STANDARD
END:VTIMEZONE
BEGIN:VEVENT
DTSTART;TZID=UTC:20210623T190000
DTEND;TZID=UTC:20210623T190000
DTSTAMP:20260421T135318
CREATED:20210607T203034Z
LAST-MODIFIED:20210607T203034Z
UID:4902-1624474800-1624474800@standrewpresbyterian.org
SUMMARY:Young Adult Bible Study
DESCRIPTION:
URL:https://standrewpresbyterian.org/event/young-adult-bible-study-3/
END:VEVENT
END:VCALENDAR