BEGIN:VCALENDAR
VERSION:2.0
PRODID:-//St. Andrew Presbyterian Church - ECPv6.15.17//NONSGML v1.0//EN
CALSCALE:GREGORIAN
METHOD:PUBLISH
X-ORIGINAL-URL:https://standrewpresbyterian.org
X-WR-CALDESC:Events for St. Andrew Presbyterian Church
REFRESH-INTERVAL;VALUE=DURATION:PT1H
X-Robots-Tag:noindex
X-PUBLISHED-TTL:PT1H
BEGIN:VTIMEZONE
TZID:UTC
BEGIN:STANDARD
TZOFFSETFROM:+0000
TZOFFSETTO:+0000
TZNAME:UTC
DTSTART:20200101T000000
END:STANDARD
END:VTIMEZONE
BEGIN:VEVENT
DTSTART;VALUE=DATE:20210626
DTEND;VALUE=DATE:20210627
DTSTAMP:20260421T135317
CREATED:20210607T203048Z
LAST-MODIFIED:20210607T203048Z
UID:4904-1624665600-1624751999@standrewpresbyterian.org
SUMMARY:Bridal Shower
DESCRIPTION:
URL:https://standrewpresbyterian.org/event/bridal-shower-2/
END:VEVENT
END:VCALENDAR