BEGIN:VCALENDAR
VERSION:2.0
PRODID:-//St. Andrew Presbyterian Church - ECPv6.15.17//NONSGML v1.0//EN
CALSCALE:GREGORIAN
METHOD:PUBLISH
X-ORIGINAL-URL:https://standrewpresbyterian.org
X-WR-CALDESC:Events for St. Andrew Presbyterian Church
REFRESH-INTERVAL;VALUE=DURATION:PT1H
X-Robots-Tag:noindex
X-PUBLISHED-TTL:PT1H
BEGIN:VTIMEZONE
TZID:America/New_York
BEGIN:DAYLIGHT
TZOFFSETFROM:-0500
TZOFFSETTO:-0400
TZNAME:EDT
DTSTART:20250309T070000
END:DAYLIGHT
BEGIN:STANDARD
TZOFFSETFROM:-0400
TZOFFSETTO:-0500
TZNAME:EST
DTSTART:20251102T060000
END:STANDARD
BEGIN:DAYLIGHT
TZOFFSETFROM:-0500
TZOFFSETTO:-0400
TZNAME:EDT
DTSTART:20260308T070000
END:DAYLIGHT
BEGIN:STANDARD
TZOFFSETFROM:-0400
TZOFFSETTO:-0500
TZNAME:EST
DTSTART:20261101T060000
END:STANDARD
BEGIN:DAYLIGHT
TZOFFSETFROM:-0500
TZOFFSETTO:-0400
TZNAME:EDT
DTSTART:20270314T070000
END:DAYLIGHT
BEGIN:STANDARD
TZOFFSETFROM:-0400
TZOFFSETTO:-0500
TZNAME:EST
DTSTART:20271107T060000
END:STANDARD
END:VTIMEZONE
BEGIN:VEVENT
DTSTART;TZID=America/New_York:20260215T083000
DTEND;TZID=America/New_York:20260215T120000
DTSTAMP:20260424T063710
CREATED:20260202T034956Z
LAST-MODIFIED:20260202T034956Z
UID:34177-1771144200-1771156800@standrewpresbyterian.org
SUMMARY:Sunday Worship Events
DESCRIPTION:Welcome! We’re so glad you’re here! Hear the message through word and music. \nThere are Sunday School classes for all ages! \nServices: \n8:30 a.m. & 11:00 a.m. \nSunday School \n9:45 a.m. – 10:45 a.m.
URL:https://standrewpresbyterian.org/event/sunday-worship-events-16/
END:VEVENT
BEGIN:VEVENT
DTSTART;TZID=America/New_York:20260215T093000
DTEND;TZID=America/New_York:20260215T123000
DTSTAMP:20260424T063710
CREATED:20260202T035930Z
LAST-MODIFIED:20260202T035930Z
UID:34196-1771147800-1771158600@standrewpresbyterian.org
SUMMARY:Blanket Sunday
DESCRIPTION:The Presbyterian Women will be collecting donations for Blanket Sunday after both services on February 15\, 2026. \nFor over 75 years\, Church World Service has been helping people of faith bring God’s hope and healing to people in the U.S. and around the world. When difficult times happen\, a kind and loving response can make all the difference. The CWS Blankets program was created—to give a kind\, loving\, and tangible response to someone facing a difficult time\, reminding them that they are not alone. Through the generosity of congregations like St. Andrew\, CWS can provide blankets during difficult times. \nPin your donation to the blanket the foyer. Thank you.
URL:https://standrewpresbyterian.org/event/blanket-sunday-3/
END:VEVENT
BEGIN:VEVENT
DTSTART;TZID=America/New_York:20260215T180000
DTEND;TZID=America/New_York:20260215T190000
DTSTAMP:20260424T063710
CREATED:20260202T040512Z
LAST-MODIFIED:20260202T040512Z
UID:34208-1771178400-1771182000@standrewpresbyterian.org
SUMMARY:Sunday Night Class
DESCRIPTION:Come join us for a book study.
URL:https://standrewpresbyterian.org/event/sunday-night-class-11/
END:VEVENT
BEGIN:VEVENT
DTSTART;TZID=America/New_York:20260215T180000
DTEND;TZID=America/New_York:20260215T193000
DTSTAMP:20260424T063710
CREATED:20260202T040707Z
LAST-MODIFIED:20260202T040707Z
UID:34212-1771178400-1771183800@standrewpresbyterian.org
SUMMARY:Youth Group
DESCRIPTION:Youth Sunday will be February 15. The Praise Band\, His Message\, will play the anthem and we will have the youth present the message during worship. \nFriends!! We would love for you to invite your friends to Youth Group! What a better gift to give to a friend than the saving knowledge of Jesus Christ! If you bring a friend\, both you and the friend will receive a candy bar. You can invite that friend two separate times for the friend to be a friend for our contest. If the Youth Group invites 25 friends by the end of May\, we will have a very special road trip!!
URL:https://standrewpresbyterian.org/event/youth-group-65/
END:VEVENT
END:VCALENDAR